BEGIN:VCALENDAR
VERSION:2.0
PRODID:-//Australian Gender Equality Council - ECPv6.0.13.1//NONSGML v1.0//EN
CALSCALE:GREGORIAN
METHOD:PUBLISH
X-WR-CALNAME:Australian Gender Equality Council
X-ORIGINAL-URL:https://www.agec.org.au
X-WR-CALDESC:Events for Australian Gender Equality Council
REFRESH-INTERVAL;VALUE=DURATION:PT1H
X-Robots-Tag:noindex
X-PUBLISHED-TTL:PT1H
BEGIN:VTIMEZONE
TZID:Australia/Melbourne
BEGIN:STANDARD
TZOFFSETFROM:+1100
TZOFFSETTO:+1000
TZNAME:AEST
DTSTART:20200404T160000
END:STANDARD
BEGIN:DAYLIGHT
TZOFFSETFROM:+1000
TZOFFSETTO:+1100
TZNAME:AEDT
DTSTART:20201003T160000
END:DAYLIGHT
TZID:Australia/Darwin
BEGIN:STANDARD
TZOFFSETFROM:+0930
TZOFFSETTO:+0930
TZNAME:ACST
DTSTART:20200101T000000
END:STANDARD
TZID:Australia/Brisbane
BEGIN:STANDARD
TZOFFSETFROM:+1000
TZOFFSETTO:+1000
TZNAME:AEST
DTSTART:20200101T000000
END:STANDARD
END:VTIMEZONE
BEGIN:VEVENT
DTSTART;TZID=Australia/Melbourne:20200813T090000
DTEND;TZID=Australia/Melbourne:20200813T160000
DTSTAMP:20260425T113539
CREATED:20200811T045849Z
LAST-MODIFIED:20200811T050141Z
UID:2150-1597309200-1597334400@www.agec.org.au
SUMMARY:The Australian Women's Leadership Symposium - Melbourne (Day 1)
DESCRIPTION:CONNECTING\, EMPOWERING AND CELEBRATING WOMEN LEADERS\nThe Australian Women’s Leadership Symposiums are a national series of events focused on the experiences of women leaders in the contemporary workforce. \nHeld annually\, in every state and territory\, the Symposiums have been running for over ten years and have become the most highly attended women’s leadership events in the country.
URL:https://www.agec.org.au/event/the-australian-womens-leadership-symposium-melbourne/
LOCATION:Fully Online (All Keynote Presentations)
ORGANIZER;CN="Women%20%26amp%3B%20Leadership%20Australia":MAILTO:info@wla.edu.au
END:VEVENT
BEGIN:VEVENT
DTSTART;TZID=Australia/Melbourne:20200814T090000
DTEND;TZID=Australia/Melbourne:20200814T153000
DTSTAMP:20260425T113539
CREATED:20200811T050107Z
LAST-MODIFIED:20200811T050107Z
UID:2152-1597395600-1597419000@www.agec.org.au
SUMMARY:The Australian Women's Leadership Symposium - Melbourne (Day 2)
DESCRIPTION:CONNECTING\, EMPOWERING AND CELEBRATING WOMEN LEADERS\nThe Australian Women’s Leadership Symposiums are a national series of events focused on the experiences of women leaders in the contemporary workforce. \nHeld annually\, in every state and territory\, the Symposiums have been running for over ten years and have become the most highly attended women’s leadership events in the country.
URL:https://www.agec.org.au/event/the-australian-womens-leadership-symposium-melbourne-2/
LOCATION:Fully Online (All Keynote Presentations)
ORGANIZER;CN="Women%20%26amp%3B%20Leadership%20Australia":MAILTO:info@wla.edu.au
END:VEVENT
BEGIN:VEVENT
DTSTART;TZID=Australia/Melbourne:20200818T121500
DTEND;TZID=Australia/Melbourne:20200818T131500
DTSTAMP:20260425T113539
CREATED:20200811T053610Z
LAST-MODIFIED:20200811T053610Z
UID:2161-1597752900-1597756500@www.agec.org.au
SUMMARY:WiBF Leadership Series – Building Your Global Career with Sara Watts
DESCRIPTION:We invite you to join us in conversation with executive mentor\, Sara Watts\, who will share her path to leadership\, working effectively for a global company and building a successful career. \nIn this 60 minute webinar\, Sara will draw on her many years as an executive at IBM working globally and more recently as a company director across a range of sectors including technology\, logistics\, arts and disability. She will equip you with advice for:\n-Managing your teams and organisations through change\n-Leadership from the board and executive perspective\n-Navigating career pathways.
URL:https://www.agec.org.au/event/wibf-leadership-series-building-your-global-career-with-sara-watts/
LOCATION:Webinar
ORGANIZER;CN="Women%20in%20Banking%20and%20Finance%20%28WiBF%29":MAILTO:mail@wibf.org.au
END:VEVENT
BEGIN:VEVENT
DTSTART;TZID=Australia/Darwin:20200819T090000
DTEND;TZID=Australia/Darwin:20200819T170000
DTSTAMP:20260425T113539
CREATED:20200811T050718Z
LAST-MODIFIED:20200811T050718Z
UID:2157-1597827600-1597856400@www.agec.org.au
SUMMARY:The Australian Women's Leadership Symposium - Darwin
DESCRIPTION:CONNECTING\, EMPOWERING AND CELEBRATING WOMEN LEADERS\nThe Australian Women’s Leadership Symposiums are a national series of events focused on the experiences of women leaders in the contemporary workforce. \nHeld annually\, in every state and territory\, the Symposiums have been running for over ten years and have become the most highly attended women’s leadership events in the country.
URL:https://www.agec.org.au/event/the-australian-womens-leadership-symposium-darwin/
LOCATION:Online
ORGANIZER;CN="Women%20%26amp%3B%20Leadership%20Australia":MAILTO:info@wla.edu.au
END:VEVENT
BEGIN:VEVENT
DTSTART;TZID=Australia/Brisbane:20200820T173000
DTEND;TZID=Australia/Brisbane:20200820T203000
DTSTAMP:20260425T113539
CREATED:20200811T051416Z
LAST-MODIFIED:20200811T051416Z
UID:2159-1597944600-1597955400@www.agec.org.au
SUMMARY:Women in Digital | The Juggle Is Real - motherhood\, mortgages and male-dominated industries
DESCRIPTION:As a society\, we are working longer hours and as women\, we are juggling more responsibilities across home and work than ever before. We’ve created this event for an open discussion on the challenges\, opportunities and hot tips that can help you to juggle it all.
URL:https://www.agec.org.au/event/women-in-digital-the-juggle-is-real-motherhood-mortgages-and-male-dominated-industries/
LOCATION:Online
ORGANIZER;CN="Women%20in%20Digital":MAILTO:hello@womenindigital.org
END:VEVENT
END:VCALENDAR