BEGIN:VCALENDAR
VERSION:2.0
PRODID:-//Australian Gender Equality Council - ECPv6.0.13.1//NONSGML v1.0//EN
CALSCALE:GREGORIAN
METHOD:PUBLISH
X-ORIGINAL-URL:https://www.agec.org.au
X-WR-CALDESC:Events for Australian Gender Equality Council
REFRESH-INTERVAL;VALUE=DURATION:PT1H
X-Robots-Tag:noindex
X-PUBLISHED-TTL:PT1H
BEGIN:VTIMEZONE
TZID:Australia/Melbourne
BEGIN:STANDARD
TZOFFSETFROM:+1100
TZOFFSETTO:+1000
TZNAME:AEST
DTSTART:20200404T160000
END:STANDARD
BEGIN:DAYLIGHT
TZOFFSETFROM:+1000
TZOFFSETTO:+1100
TZNAME:AEDT
DTSTART:20201003T160000
END:DAYLIGHT
TZID:Australia/Brisbane
BEGIN:STANDARD
TZOFFSETFROM:+1000
TZOFFSETTO:+1000
TZNAME:AEST
DTSTART:20200101T000000
END:STANDARD
TZID:Australia/Adelaide
BEGIN:STANDARD
TZOFFSETFROM:+1030
TZOFFSETTO:+0930
TZNAME:ACST
DTSTART:20200404T163000
END:STANDARD
BEGIN:DAYLIGHT
TZOFFSETFROM:+0930
TZOFFSETTO:+1030
TZNAME:ACDT
DTSTART:20201003T163000
END:DAYLIGHT
TZID:Australia/Sydney
BEGIN:STANDARD
TZOFFSETFROM:+1100
TZOFFSETTO:+1000
TZNAME:AEST
DTSTART:20200404T160000
END:STANDARD
BEGIN:DAYLIGHT
TZOFFSETFROM:+1000
TZOFFSETTO:+1100
TZNAME:AEDT
DTSTART:20201003T160000
END:DAYLIGHT
END:VTIMEZONE
BEGIN:VEVENT
DTSTART;TZID=Australia/Melbourne:20200713T121500
DTEND;TZID=Australia/Melbourne:20200713T130000
DTSTAMP:20260425T094929
CREATED:20200708T063746Z
LAST-MODIFIED:20200708T065536Z
UID:2111-1594642500-1594645200@www.agec.org.au
SUMMARY:WiBF | Ask the Experts - Practise social distancing but not vocal distancing: How to speak with influence when working remotely
DESCRIPTION:Now it is critical for all employees to be able to speak with impact\, influence and confidence. Leaders now need to be heard through a general high level of anxiety or in fast paced and unpredictable scenarios. The business that comes with face to face speaking will get lost in the pandemonium unless people have the skills to stay in control and cut through – virtually or not. \nIn this 45 minute session\, Lucy Cornell\, Founder and CEO of The Cornell Voice Advisory\, a leading Global Specialist on the speaking Voice for Business leaders will equip you with techniques:\n– to stay in voice while working remotely\,\n– to speak boldly when it matters\,\n– to be clear and direct\,\n– to listen deeply so you can discern where agenda meets truth\n– to access the remote working super power: to hear what is in a voice – not just the words\, but the intention in the voice.
URL:https://www.agec.org.au/event/wibf-ask-the-experts-practise-social-distancing-but-not-vocal-distancing-how-to-speak-with-influence-when-working-remotely/
LOCATION:Webinar
ORGANIZER;CN="Women%20in%20Banking%20and%20Finance%20%28WiBF%29":MAILTO:mail@wibf.org.au
END:VEVENT
BEGIN:VEVENT
DTSTART;TZID=Australia/Brisbane:20200721T121500
DTEND;TZID=Australia/Brisbane:20200721T130000
DTSTAMP:20260425T094929
CREATED:20200708T064532Z
LAST-MODIFIED:20200708T064532Z
UID:2115-1595333700-1595336400@www.agec.org.au
SUMMARY:WiBF | Ask the Experts - AGEC: Implementing leading gender equality practices in Strategy\, Policy and Implementation
DESCRIPTION:COVID-19 has created a swathe of unintended consequences for gender equality in the workplace with women over-represented in both the fields most affected by an economic shutdown and in casual employment\, thus more likely to impacted. How can organisations overcome these impacts and promote gender equality in real terms? What can we learn from other organisations in order to create the most effective diversity and inclusion measures? As individuals\, how can we increase impact through the actions we take? \nIn this 45 minute session\, hear from Australian Gender Equality Council Chair\, Victoria Weekes and Research Director & CEO\, Dr Terry Fitzsimmons as they unpack the recently released Leading Workplace Practice in Gender Equality Report.They will cover:\n• Which initiatives have the greatest impact to increasing gender equality within organisations\n• The 12 key elements of leading workplace best practice in gender equality and how to integrate them into your equality strategy\n• What practical steps you can personally take to be a better advocate for gender equality in your career and network
URL:https://www.agec.org.au/event/wibf-ask-the-experts-agec-implementing-leading-gender-equality-practices-in-strategy-policy-and-implementation/
ORGANIZER;CN="Women%20in%20Banking%20and%20Finance%20%28WiBF%29":MAILTO:mail@wibf.org.au
END:VEVENT
BEGIN:VEVENT
DTSTART;TZID=Australia/Brisbane:20200722T170000
DTEND;TZID=Australia/Brisbane:20200722T180000
DTSTAMP:20260425T094929
CREATED:20200708T064811Z
LAST-MODIFIED:20200708T064811Z
UID:2117-1595437200-1595440800@www.agec.org.au
SUMMARY:WiBF | Zoomtails - Online networking drinks
DESCRIPTION:WiBF’s Zoomtails bring together members for all over Australia for virtual networking drinks where you can jump online to catch up and have the opportunity to introduce yourself plus meet other members on the line. So grab your favorite cocktail & get ready to mingle with your fellow WiBF members \nJoin us for a networking hour full of #workingfrom home tales & laughter. Staying connected is the name of the game this month & we are here to lead the campaign. The purpose of this online event is to bring together busy\, social go-getters who understand the importance of networking and growing their connections. This is the perfect place to connect\, generate ideas\, get feedback and meet people with the same goals that you have.
URL:https://www.agec.org.au/event/wibf-zoomtails-online-networking-drinks/
LOCATION:Webinar
ORGANIZER;CN="Women%20in%20Banking%20and%20Finance%20%28WiBF%29":MAILTO:mail@wibf.org.au
END:VEVENT
BEGIN:VEVENT
DTSTART;TZID=Australia/Adelaide:20200723T090000
DTEND;TZID=Australia/Adelaide:20200723T180000
DTSTAMP:20260425T094929
CREATED:20200708T062123Z
LAST-MODIFIED:20200708T062123Z
UID:2095-1595494800-1595527200@www.agec.org.au
SUMMARY:The Australian Women's Leadership Symposium - Adelaide
DESCRIPTION:CONNECTING\, EMPOWERING AND CELEBRATING WOMEN LEADERS\nThe Australian Women’s Leadership Symposiums are a national series of events focused on the experiences of women leaders in the contemporary workforce. \nHeld annually\, in every state and territory\, the Symposiums have been running for over ten years and have become the most highly attended women’s leadership events in the country.
URL:https://www.agec.org.au/event/the-australian-womens-leadership-symposium-adelaide/
LOCATION:Online
ORGANIZER;CN="Women%20%26amp%3B%20Leadership%20Australia":MAILTO:info@wla.edu.au
END:VEVENT
BEGIN:VEVENT
DTSTART;TZID=Australia/Sydney:20200728T090000
DTEND;TZID=Australia/Sydney:20200728T160000
DTSTAMP:20260425T094929
CREATED:20200708T062934Z
LAST-MODIFIED:20200708T063223Z
UID:2102-1595926800-1595952000@www.agec.org.au
SUMMARY:The Australian Women's Leadership Symposium - Sydney
DESCRIPTION:CONNECTING\, EMPOWERING AND CELEBRATING WOMEN LEADERS\nThe Australian Women’s Leadership Symposiums are a national series of events focused on the experiences of women leaders in the contemporary workforce. \nHeld annually\, in every state and territory\, the Symposiums have been running for over ten years and have become the most highly attended women’s leadership events in the country.
URL:https://www.agec.org.au/event/the-australian-womens-leadership-symposium-sydney/
LOCATION:Fully Online (All Keynote Presentations)
ORGANIZER;CN="Women%20%26amp%3B%20Leadership%20Australia":MAILTO:info@wla.edu.au
END:VEVENT
BEGIN:VEVENT
DTSTART;TZID=Australia/Brisbane:20200728T121500
DTEND;TZID=Australia/Brisbane:20200728T130000
DTSTAMP:20260425T094929
CREATED:20200708T065428Z
LAST-MODIFIED:20200708T065428Z
UID:2119-1595938500-1595941200@www.agec.org.au
SUMMARY:WiBF | Ask the Experts - Maintaining your Performance: the best diet to support immunity with Susie Burrell
DESCRIPTION:Good nutrition is not by chance\, rather it is a decision that can impact performance and mental functioning on a daily basis. In the current circumstances\, it’s more important than ever to protect your physical and mental health but what specifically should we be doing to not only maintain our immunity but increase our energy and performance? \nIn this 45 minute session\, hear from Susie Burrell\, one of Australia’s leading dietitians\, with 2 Honours degrees in Nutrition & Dietetics and Psychology about the specific strategies you can use to support your wellbeing during these challenging times. She will cover:\n– The best diet to support immunity\n– How to have more energy throughout the day\n– Easy ways to eat well when you are busy
URL:https://www.agec.org.au/event/wibf-ask-the-experts-maintaining-your-performance-the-best-diet-to-support-immunity-with-susie-burrell/
LOCATION:Webinar
ORGANIZER;CN="Women%20in%20Banking%20and%20Finance%20%28WiBF%29":MAILTO:mail@wibf.org.au
END:VEVENT
END:VCALENDAR