BEGIN:VCALENDAR
VERSION:2.0
PRODID:-//Australian Gender Equality Council - ECPv6.0.13.1//NONSGML v1.0//EN
CALSCALE:GREGORIAN
METHOD:PUBLISH
X-WR-CALNAME:Australian Gender Equality Council
X-ORIGINAL-URL:https://www.agec.org.au
X-WR-CALDESC:Events for Australian Gender Equality Council
REFRESH-INTERVAL;VALUE=DURATION:PT1H
X-Robots-Tag:noindex
X-PUBLISHED-TTL:PT1H
BEGIN:VTIMEZONE
TZID:Australia/Brisbane
BEGIN:STANDARD
TZOFFSETFROM:+1000
TZOFFSETTO:+1000
TZNAME:AEST
DTSTART:20190101T000000
END:STANDARD
END:VTIMEZONE
BEGIN:VEVENT
DTSTART;TZID=Australia/Brisbane:20190405T080000
DTEND;TZID=Australia/Brisbane:20190405T160000
DTSTAMP:20260425T222829
CREATED:20190321T232344Z
LAST-MODIFIED:20190321T232344Z
UID:1364-1554451200-1554480000@www.agec.org.au
SUMMARY:The Ausralian Women's Leadership Forum Launceston
DESCRIPTION:The Australian Women’s Leadership Forum is for women who are looking for increased awareness of their leadership style and competencies\, as well as practical strategies to help them overcome challenges within their work and personal life. The program also provides a relaxed and supportive environment to connect and collaborate with other female leaders. \nThe content and flow of the program is carefully designed to immerse participants in the subject matter and create valuable insights informed by collective experience. During the program\, a number of key themes are explored via a combination of expert presentations\, collaborative discussion\, experiential activities and personal reflection.
URL:https://www.agec.org.au/event/the-ausralian-womens-leadership-forum-launceston/
LOCATION:HOTEL GRAND CHANCELLOR\, 29 Cameron St\, Launceston T\, TAS\, 7250\, Australia
ATTACH;FMTTYPE=image/jpeg:https://www.agec.org.au/wp-content/uploads/2019/03/B0F267EB-9862-0515-FE4C-02512DC2AFAD.jpg
ORGANIZER;CN="Women%20%26amp%3B%20Leadership%20Australia":MAILTO:info@wla.edu.au
END:VEVENT
BEGIN:VEVENT
DTSTART;VALUE=DATE:20190404
DTEND;VALUE=DATE:20190406
DTSTAMP:20260425T222829
CREATED:20190322T065018Z
LAST-MODIFIED:20190322T065018Z
UID:1382-1554336000-1554508799@www.agec.org.au
SUMMARY:2019 Annual Forum of the Australian Gender Equality Council
DESCRIPTION:The 2019 Annual Forum of the Australian Gender Equality Council is being held on Thursday 4th & Friday 5th April 2019 in Melbourne. \nWith the success of our Launch this year and AGEC’s It’s Time Campaign\, we are committed to building on our achievements in 2019 and beyond. And we need your help and input to do it. The 2019 Annual Forum will revolve around our priorities and building a formal AGEC manifesto – the things we stand for.
URL:https://www.agec.org.au/event/2019-annual-forum-of-the-australian-gender-equality-council/
END:VEVENT
BEGIN:VEVENT
DTSTART;TZID=Australia/Brisbane:20190314T090000
DTEND;TZID=Australia/Brisbane:20190314T170000
DTSTAMP:20260425T222829
CREATED:20190321T020927Z
LAST-MODIFIED:20190321T020927Z
UID:1332-1552554000-1552582800@www.agec.org.au
SUMMARY:WiBF Change Makers - Becoming an agent for change
DESCRIPTION:Speakers: Neville Powers\, Linda O’Farrell\, Deborah Beeck
URL:https://www.agec.org.au/event/wibf-change-makers-becoming-an-agent-for-change/
LOCATION:CPA – CPA Australia\, Level 17\, Alluvion\, 58 Mounts Bay Road\, Perth\, WA\, Australia
END:VEVENT
END:VCALENDAR