BEGIN:VCALENDAR
VERSION:2.0
PRODID:-//Australian Gender Equality Council - ECPv6.0.13.1//NONSGML v1.0//EN
CALSCALE:GREGORIAN
METHOD:PUBLISH
X-WR-CALNAME:Australian Gender Equality Council
X-ORIGINAL-URL:https://www.agec.org.au
X-WR-CALDESC:Events for Australian Gender Equality Council
REFRESH-INTERVAL;VALUE=DURATION:PT1H
X-Robots-Tag:noindex
X-PUBLISHED-TTL:PT1H
BEGIN:VTIMEZONE
TZID:Australia/Brisbane
BEGIN:STANDARD
TZOFFSETFROM:+1000
TZOFFSETTO:+1000
TZNAME:AEST
DTSTART:20190101T000000
END:STANDARD
END:VTIMEZONE
BEGIN:VEVENT
DTSTART;TZID=Australia/Brisbane:20190314T090000
DTEND;TZID=Australia/Brisbane:20190314T170000
DTSTAMP:20260425T204456
CREATED:20190321T020927Z
LAST-MODIFIED:20190321T020927Z
UID:1332-1552554000-1552582800@www.agec.org.au
SUMMARY:WiBF Change Makers - Becoming an agent for change
DESCRIPTION:Speakers: Neville Powers\, Linda O’Farrell\, Deborah Beeck
URL:https://www.agec.org.au/event/wibf-change-makers-becoming-an-agent-for-change/
LOCATION:CPA – CPA Australia\, Level 17\, Alluvion\, 58 Mounts Bay Road\, Perth\, WA\, Australia
END:VEVENT
END:VCALENDAR