BEGIN:VCALENDAR
VERSION:2.0
PRODID:-//Australian Gender Equality Council - ECPv6.0.13.1//NONSGML v1.0//EN
CALSCALE:GREGORIAN
METHOD:PUBLISH
X-WR-CALNAME:Australian Gender Equality Council
X-ORIGINAL-URL:https://www.agec.org.au
X-WR-CALDESC:Events for Australian Gender Equality Council
REFRESH-INTERVAL;VALUE=DURATION:PT1H
X-Robots-Tag:noindex
X-PUBLISHED-TTL:PT1H
BEGIN:VTIMEZONE
TZID:Australia/Brisbane
BEGIN:STANDARD
TZOFFSETFROM:+1000
TZOFFSETTO:+1000
TZNAME:AEST
DTSTART:20220101T000000
END:STANDARD
END:VTIMEZONE
BEGIN:VEVENT
DTSTART;TZID=Australia/Brisbane:20220419T121500
DTEND;TZID=Australia/Brisbane:20220419T130000
DTSTAMP:20260424T065953
CREATED:20211220T235331Z
LAST-MODIFIED:20211220T235331Z
UID:3044-1650370500-1650373200@www.agec.org.au
SUMMARY:Finding Financial Freedom highlights with Carolyn Reid
DESCRIPTION:Against the backdrop of COVID-19\, and changes in Australia’s business\, retirement and health systems\, achieving financial autonomy has never been more complex. \nEven before COVID-19\, gender equality and the empowerment of women were topics of real discussion\, change and progression. As the pandemic continues to affect lives globally\, we are beginning to see how women are being disproportionately affected – threatening the progress society has made in recent years. \nGlobally\, women are 1.8 times more likely than men to have lost or quit their job. In combination with the gender pay gap\, the need and opportunity to address financial literacy could not be greater. \nAddressing financial autonomy – irrespective of gender – is now a commercial imperative for financial services. Why? Because financial independence is the dominant contributor to self-esteem. The impact of the pandemic has increased the need for Australians to make informed choices in life to be financially independent – especially where the opportunity to grow wealth for the future is challenged in a low-interest environment. \nPresenting exclusive research insights to the WIBF community\, Carolyn Reid will reveal an unparalleled state of the nation regarding Australian women and finance. This is some of the richest data of the Australian story through COVID-19 and beyond. Prepare for a big wake-up call and get ready for a new future of finance. \nIn this 45-minute session\, hear from Carolyn Reid\, Executive Director and Head of Qualitative at Kantar. She will cover:\n– The intrinsic and powerful link between financial autonomy and self-esteem\n– Why 4 in 10 women say they want to be more confident understanding finance\n– The gender difference between saving and investing – and why this matters\n– Why women are twice as likely to walk away from an unfulfilling relationship\n– Deeply human insights to guide the valuable role you can play in empowering the financial wellbeing and self-esteem of Australian women
URL:https://www.agec.org.au/event/finding-financial-freedom-highlights-with-carolyn-reid/
LOCATION:Online via Zoom
ATTACH;FMTTYPE=image/jpeg:https://www.agec.org.au/wp-content/uploads/2021/12/Carolyn-Reid-main-image.jpg
ORGANIZER;CN="Women%20in%20Banking%20and%20Finance%20%28WiBF%29":MAILTO:mail@wibf.org.au
END:VEVENT
END:VCALENDAR