BEGIN:VCALENDAR
VERSION:2.0
PRODID:-//Australian Gender Equality Council - ECPv6.0.13.1//NONSGML v1.0//EN
CALSCALE:GREGORIAN
METHOD:PUBLISH
X-ORIGINAL-URL:https://www.agec.org.au
X-WR-CALDESC:Events for Australian Gender Equality Council
REFRESH-INTERVAL;VALUE=DURATION:PT1H
X-Robots-Tag:noindex
X-PUBLISHED-TTL:PT1H
BEGIN:VTIMEZONE
TZID:Australia/Brisbane
BEGIN:STANDARD
TZOFFSETFROM:+1000
TZOFFSETTO:+1000
TZNAME:AEST
DTSTART:20210101T000000
END:STANDARD
END:VTIMEZONE
BEGIN:VEVENT
DTSTART;TZID=Australia/Brisbane:20211214T121500
DTEND;TZID=Australia/Brisbane:20211214T130000
DTSTAMP:20260424T005346
CREATED:20210914T051817Z
LAST-MODIFIED:20210914T051817Z
UID:2825-1639484100-1639486800@www.agec.org.au
SUMMARY:Leveraging LinkedIn: how to amplify your brand via LinkedIn to boost your career
DESCRIPTION:From early-career professionals to mature executives\, LinkedIn offers amazing opportunities to build and amplify your brand\, but most of us are barely scraping the tip of the iceberg. In fact\, if you’re not turning up on page 1 or 2 of the search results for the keywords of your choice\, you may as well be in Outer Siberia! Leveraging LinkedIn is not a waste of time and it’s certainly not disloyal. In fact\, it provides a great way to build\, consolidate and amplify your brand to give your career and credibility a boost. \nIn this 45-minute session\, speaker\, mentor\, trainer and thinker\, Amanda Blesing will cover\n– Common behaviour mistakes to avoid that almost everyone makes\n– Easy posting and commenting tactics that deliver results without wasting hours on the platform\n– Posting ideas to help you position yourself as an industry thought leader\nAmanda will provide you with the strategic approach you need to stand out for all the right reasons\, 24/7 while you sleep.
URL:https://www.agec.org.au/event/leveraging-linkedin-how-to-amplify-your-brand-via-linkedin-to-boost-your-career/
LOCATION:Online via Zoom
ATTACH;FMTTYPE=image/png:https://www.agec.org.au/wp-content/uploads/2021/09/event_main_2421_Amanda-Blesing-main-image.png
ORGANIZER;CN="Women%20in%20Banking%20and%20Finance%20%28WiBF%29":MAILTO:mail@wibf.org.au
END:VEVENT
END:VCALENDAR