BEGIN:VCALENDAR
VERSION:2.0
PRODID:-//Australian Gender Equality Council - ECPv6.0.13.1//NONSGML v1.0//EN
CALSCALE:GREGORIAN
METHOD:PUBLISH
X-WR-CALNAME:Australian Gender Equality Council
X-ORIGINAL-URL:https://www.agec.org.au
X-WR-CALDESC:Events for Australian Gender Equality Council
REFRESH-INTERVAL;VALUE=DURATION:PT1H
X-Robots-Tag:noindex
X-PUBLISHED-TTL:PT1H
BEGIN:VTIMEZONE
TZID:Australia/Brisbane
BEGIN:STANDARD
TZOFFSETFROM:+1000
TZOFFSETTO:+1000
TZNAME:AEST
DTSTART:20210101T000000
END:STANDARD
END:VTIMEZONE
BEGIN:VEVENT
DTSTART;TZID=Australia/Brisbane:20211202T121500
DTEND;TZID=Australia/Brisbane:20211202T133000
DTSTAMP:20260423T230700
CREATED:20210914T024045Z
LAST-MODIFIED:20211019T045845Z
UID:2812-1638447300-1638451800@www.agec.org.au
SUMMARY:2021 WiBF Awards Program\, presented by Commonwealth Bank
DESCRIPTION:Women in Banking and Finance is delighted to announce the recipients of our WiBF 2021 Awards Program\, presented by Commonwealth Bank\, celebrating the talented women leading by example across Australia’s banking and finance industry\, as well as those men\, women and organisations working to improve the gender diversity across the sector.  \nPlease join us for a WiBF Awards watch-party\, where we will hear from one of Australia’s most acclaimed business leaders Christine Holgate\, in conversation with Catherine Fox\, one of Australia’s foremost commentators on women in business\, after which the 2021 WiBF Awards recipients will be announced.   \nWe encourage you to register early to avoid disappointment and connect with colleagues\, friends and peers to view this inspiring WiBF event together\, wherever you may be. From hosting an in-office watch-party – in a COVID safe manner – if you are free to do so\, to planning a group chat or group streaming session to exchange thoughts and ideas in real-time\, there are plenty of opportunities to connect and interact.
URL:https://www.agec.org.au/event/2021-wibf-awards-program-presented-by-commonwealth-bank/
LOCATION:Online via Zoom
ATTACH;FMTTYPE=image/jpeg:https://www.agec.org.au/wp-content/uploads/2021/09/2021-Awards-main-image.jpg
ORGANIZER;CN="Women%20in%20Banking%20and%20Finance%20%28WiBF%29":MAILTO:mail@wibf.org.au
END:VEVENT
END:VCALENDAR