BEGIN:VCALENDAR
VERSION:2.0
PRODID:-//Australian Gender Equality Council - ECPv6.0.13.1//NONSGML v1.0//EN
CALSCALE:GREGORIAN
METHOD:PUBLISH
X-ORIGINAL-URL:https://www.agec.org.au
X-WR-CALDESC:Events for Australian Gender Equality Council
REFRESH-INTERVAL;VALUE=DURATION:PT1H
X-Robots-Tag:noindex
X-PUBLISHED-TTL:PT1H
BEGIN:VTIMEZONE
TZID:Australia/Brisbane
BEGIN:STANDARD
TZOFFSETFROM:+1000
TZOFFSETTO:+1000
TZNAME:AEST
DTSTART:20210101T000000
END:STANDARD
END:VTIMEZONE
BEGIN:VEVENT
DTSTART;TZID=Australia/Brisbane:20211130T121500
DTEND;TZID=Australia/Brisbane:20211130T130000
DTSTAMP:20260421T191458
CREATED:20210914T051803Z
LAST-MODIFIED:20210914T051803Z
UID:2822-1638274500-1638277200@www.agec.org.au
SUMMARY:Crunch time: How to make every decision count with Alena Bennett
DESCRIPTION:It’s simple – when it’s crunch time\, every decision counts. But it’s hard. Have you ever tried running around a race track\, then immediately come to complete standstill….on one foot? The concentration it takes to balance is hard when you’re exhausted: just like decision making during the pressure of crunch times. So much so\, that sometimes leaders suffer ‘paralysis by analysis’ as they tie themselves up in knots trying to make the right decision. \nIn this 45-minute session\, join Alena Bennett – speaker\, author\, mentor\, trainer & facilitator and executive coach for this interactive session where she will:\n– Provide you with the antidote for decision fatigue\n– Share with you why you don’t always get the results you expect (and give you tools to fix it!)\n– Tell you how to get people to listen when you talk\, and take action when you lead
URL:https://www.agec.org.au/event/crunch-time-how-to-make-every-decision-count-with-alena-bennett/
LOCATION:Online via Zoom
ATTACH;FMTTYPE=image/png:https://www.agec.org.au/wp-content/uploads/2021/09/ALENA-BENNETT_Standard-headshot.png
ORGANIZER;CN="Women%20in%20Banking%20and%20Finance%20%28WiBF%29":MAILTO:mail@wibf.org.au
END:VEVENT
END:VCALENDAR