BEGIN:VCALENDAR
VERSION:2.0
PRODID:-//Australian Gender Equality Council - ECPv6.0.13.1//NONSGML v1.0//EN
CALSCALE:GREGORIAN
METHOD:PUBLISH
X-ORIGINAL-URL:https://www.agec.org.au
X-WR-CALDESC:Events for Australian Gender Equality Council
REFRESH-INTERVAL;VALUE=DURATION:PT1H
X-Robots-Tag:noindex
X-PUBLISHED-TTL:PT1H
BEGIN:VTIMEZONE
TZID:Australia/Brisbane
BEGIN:STANDARD
TZOFFSETFROM:+1000
TZOFFSETTO:+1000
TZNAME:AEST
DTSTART:20210101T000000
END:STANDARD
END:VTIMEZONE
BEGIN:VEVENT
DTSTART;TZID=Australia/Brisbane:20211005T121500
DTEND;TZID=Australia/Brisbane:20211005T130000
DTSTAMP:20260426T025633
CREATED:20210914T023451Z
LAST-MODIFIED:20210914T023836Z
UID:2796-1633436100-1633438800@www.agec.org.au
SUMMARY:Intro to Executive Presence with Shannon Dolan
DESCRIPTION:Sometimes it can be hard to describe Executive Presence. And yet\, we know it when we see it\, when we hear it\, and when we feel it. Whether it is in person or online\, the ability to command a space\, to connect easily\, to influence at any level. These are signs that Executive Presence is “in the house”. Is it born or is it bred? Well\, it’s a little of both. It is self-awareness to capitalise on our authentic strengths and having a flexible approach in our communication style. This adds up to more successful outcomes and a stronger and more positive personal brand. \nIn this 45 minute session\, hear from Shannon Dolan\, Executive Coach and Director of Performance Power about understanding what makes Executive Presence. She will cover:\n– What is Executive Presence?\n– How to establish Executive Presence\n– Tips to boost your presence and confidence
URL:https://www.agec.org.au/event/intro-to-executive-presence-with-shannon-dolan/
LOCATION:Online via Zoom
ATTACH;FMTTYPE=image/jpeg:https://www.agec.org.au/wp-content/uploads/2021/09/Shannon-Dolan-head-shot.jpg
ORGANIZER;CN="Women%20in%20Banking%20and%20Finance%20%28WiBF%29":MAILTO:mail@wibf.org.au
END:VEVENT
END:VCALENDAR