BEGIN:VCALENDAR
VERSION:2.0
PRODID:-//Australian Gender Equality Council - ECPv6.0.13.1//NONSGML v1.0//EN
CALSCALE:GREGORIAN
METHOD:PUBLISH
X-ORIGINAL-URL:https://www.agec.org.au
X-WR-CALDESC:Events for Australian Gender Equality Council
REFRESH-INTERVAL;VALUE=DURATION:PT1H
X-Robots-Tag:noindex
X-PUBLISHED-TTL:PT1H
BEGIN:VTIMEZONE
TZID:Australia/Brisbane
BEGIN:STANDARD
TZOFFSETFROM:+1000
TZOFFSETTO:+1000
TZNAME:AEST
DTSTART:20210101T000000
END:STANDARD
END:VTIMEZONE
BEGIN:VEVENT
DTSTART;TZID=Australia/Brisbane:20210909T100000
DTEND;TZID=Australia/Brisbane:20210909T130000
DTSTAMP:20260425T231947
CREATED:20210902T061547Z
LAST-MODIFIED:20210902T061554Z
UID:2776-1631181600-1631192400@www.agec.org.au
SUMMARY:AGEC 2021 National Forum  - How to Change Culture - Member Only Presentations & Workshops
DESCRIPTION:On Day 2 of the 2021 National Member Forum representatives from AGEC’s Member Organisations and our key stakeholders are invited to participate in exclusive presentations and workshops to develop our 2021/2022 priorities and program of work.  The 2021 Annual Member Forum is being held online via Zoom. Your Member Organisation should have received an invitation. For further enquiries and details please contact info@agec.org.au.
URL:https://www.agec.org.au/event/agec-2021-national-forum-how-to-change-culture-member-only-presentations-workshops/
LOCATION:Online via Zoom
ORGANIZER;CN="AGEC":MAILTO:info@agec.org.au
END:VEVENT
END:VCALENDAR