BEGIN:VCALENDAR
VERSION:2.0
PRODID:-//Australian Gender Equality Council - ECPv6.0.13.1//NONSGML v1.0//EN
CALSCALE:GREGORIAN
METHOD:PUBLISH
X-ORIGINAL-URL:https://www.agec.org.au
X-WR-CALDESC:Events for Australian Gender Equality Council
REFRESH-INTERVAL;VALUE=DURATION:PT1H
X-Robots-Tag:noindex
X-PUBLISHED-TTL:PT1H
BEGIN:VTIMEZONE
TZID:Australia/Brisbane
BEGIN:STANDARD
TZOFFSETFROM:+1000
TZOFFSETTO:+1000
TZNAME:AEST
DTSTART:20200101T000000
END:STANDARD
END:VTIMEZONE
BEGIN:VEVENT
DTSTART;TZID=Australia/Brisbane:20200303T070000
DTEND;TZID=Australia/Brisbane:20200303T090000
DTSTAMP:20260425T065422
CREATED:20200205T035213Z
LAST-MODIFIED:20200205T035213Z
UID:1921-1583218800-1583226000@www.agec.org.au
SUMMARY:Brisbane International Women's Day 2020 I Generation Equality
DESCRIPTION:You are invited to attend UN Women Australia’s preeminent International Women’s Day (IWD)\ncelebrations around the country again this year\, from 28 February through 6 March. The 2020 global\nIWD theme is Generation Equality. Generation Equality is a call to action to join forces across\ngenerations\, to create a world where every girl and woman has equal opportunities to fulfill their full\npotential. \nJoin us as we celebrate International Women’s Day in Brisbane.
URL:https://www.agec.org.au/event/international-womens-day-2020-i-generation-equality-2/
LOCATION:Great Hall\, Brisbane Convention & Exhibition Centre\, Merivale St & Glenelg Street\, South Brisbane\, QLD\, 4101\, Australia
ORGANIZER;CN="UN%20Women":MAILTO:admin@unwomen.org.au
END:VEVENT
END:VCALENDAR