BEGIN:VCALENDAR
VERSION:2.0
PRODID:-//Australian Gender Equality Council - ECPv6.0.13.1//NONSGML v1.0//EN
CALSCALE:GREGORIAN
METHOD:PUBLISH
X-WR-CALNAME:Australian Gender Equality Council
X-ORIGINAL-URL:https://www.agec.org.au
X-WR-CALDESC:Events for Australian Gender Equality Council
REFRESH-INTERVAL;VALUE=DURATION:PT1H
X-Robots-Tag:noindex
X-PUBLISHED-TTL:PT1H
BEGIN:VTIMEZONE
TZID:Australia/Brisbane
BEGIN:STANDARD
TZOFFSETFROM:+1000
TZOFFSETTO:+1000
TZNAME:AEST
DTSTART:20200101T000000
END:STANDARD
END:VTIMEZONE
BEGIN:VEVENT
DTSTART;TZID=Australia/Brisbane:20200227T160000
DTEND;TZID=Australia/Brisbane:20200227T180000
DTSTAMP:20260425T063250
CREATED:20200220T012156Z
LAST-MODIFIED:20200220T012156Z
UID:2029-1582819200-1582826400@www.agec.org.au
SUMMARY:Official Launch of the AGEC's WGEA Employer of Choice for Gender Equality Report and Summary Report
DESCRIPTION:
URL:https://www.agec.org.au/event/official-launch-of-the-agecs-wgea-employer-of-choice-for-gender-equality-report-and-summary-report-2/
LOCATION:Sparke Helmore Lawyers\, Level 29 MLC Centre 19 Martin Place\, Sydney\, NSW\, 2000\, Australia
ATTACH;FMTTYPE=image/png:https://www.agec.org.au/wp-content/uploads/2020/02/AGEC-2020-Report.png
ORGANIZER;CN="Australian%20Gender%20Equality%20Council":MAILTO:info@agec.org.au
END:VEVENT
END:VCALENDAR