BEGIN:VCALENDAR
VERSION:2.0
PRODID:-//Australian Gender Equality Council - ECPv6.0.13.1//NONSGML v1.0//EN
CALSCALE:GREGORIAN
METHOD:PUBLISH
X-WR-CALNAME:Australian Gender Equality Council
X-ORIGINAL-URL:https://www.agec.org.au
X-WR-CALDESC:Events for Australian Gender Equality Council
REFRESH-INTERVAL;VALUE=DURATION:PT1H
X-Robots-Tag:noindex
X-PUBLISHED-TTL:PT1H
BEGIN:VTIMEZONE
TZID:Australia/Brisbane
BEGIN:STANDARD
TZOFFSETFROM:+1000
TZOFFSETTO:+1000
TZNAME:AEST
DTSTART:20190101T000000
END:STANDARD
END:VTIMEZONE
BEGIN:VEVENT
DTSTART;TZID=Australia/Brisbane:20191101T090000
DTEND;TZID=Australia/Brisbane:20191130T170000
DTSTAMP:20260425T065310
CREATED:20190412T015058Z
LAST-MODIFIED:20190412T015058Z
UID:1579-1572598800-1575133200@www.agec.org.au
SUMMARY:Women in Public Sector Leadership
DESCRIPTION:Returning for its third year\, this full day conference will once again provide you with the inspiration and information to bring about positive change in Western Australia’s workforce. \nDetails of keynote speaker and theme will be unveiled in May with registrations opening in June.
URL:https://www.agec.org.au/event/women-in-public-sector-leadership/
LOCATION:Perth\, Perth\, WA\, 6000\, Australia
ORGANIZER;CN="Institute%20of%20Public%20Administration%20Australia":MAILTO:info@ipaawa.org.au
END:VEVENT
BEGIN:VEVENT
DTSTART;TZID=Australia/Brisbane:20191126T073000
DTEND;TZID=Australia/Brisbane:20191126T170000
DTSTAMP:20260425T065310
CREATED:20191113T011735Z
LAST-MODIFIED:20191113T011735Z
UID:1898-1574753400-1574787600@www.agec.org.au
SUMMARY:Women for Election Australia | Help more Australian women get elected
DESCRIPTION:Women for Election Australia (WFEA) and the Australian National University (ANU) are partnering to bring to you a uniquely non-partisan forum about politics. This is a must-attend event if you are a woman running for office\, managing a campaign or wanting to understand more about politics.
URL:https://www.agec.org.au/event/women-for-election-australia-help-more-australian-women-get-elected/
LOCATION:ANU\, Crawford School of Public Policy\, Canberry/Springbank Room\, Lennox Crossing\, Acton\, Australian Capital Territory\, 2601\, Australia
END:VEVENT
END:VCALENDAR