BEGIN:VCALENDAR
VERSION:2.0
PRODID:-//Australian Gender Equality Council - ECPv6.0.13.1//NONSGML v1.0//EN
CALSCALE:GREGORIAN
METHOD:PUBLISH
X-ORIGINAL-URL:https://www.agec.org.au
X-WR-CALDESC:Events for Australian Gender Equality Council
REFRESH-INTERVAL;VALUE=DURATION:PT1H
X-Robots-Tag:noindex
X-PUBLISHED-TTL:PT1H
BEGIN:VTIMEZONE
TZID:Australia/Brisbane
BEGIN:STANDARD
TZOFFSETFROM:+1000
TZOFFSETTO:+1000
TZNAME:AEST
DTSTART:20190101T000000
END:STANDARD
END:VTIMEZONE
BEGIN:VEVENT
DTSTART;TZID=Australia/Brisbane:20190911T153000
DTEND;TZID=Australia/Brisbane:20190911T183000
DTSTAMP:20260425T120834
CREATED:20190607T010900Z
LAST-MODIFIED:20190607T011021Z
UID:1657-1568215800-1568226600@www.agec.org.au
SUMMARY:Leadership Futures with Stephanie Burns – SYDNEY (Session 2 of 2)
DESCRIPTION:Overview\nHave you attended Dr. Stephanie Burns’ Voice of Leadership Program? Are you ready to learn more\, to take another set of steps toward your future\, to prepare a detailed plan for how you can take Stephanie’s learnings and apply them towards achieving your career goals? Our Leadership Futures course is designed for those graduates of the Voice of Leadership\, who are interested in looking more deeply into the development of your human behaviour and leadership skills. The course is delivered over two sessions\, each with its own focus. This program builds on the content of the Voice of Leadership program\, and takes you into workshopping that content designing your own long-term future development. Unlike the WiBF Voice of Leadership Program\, Leadership Futures is open to an intimate cohort of 20 participants for a highly personalised and tailored experience and coaching from Stef. Note: This program is offered subject to demand. In the event that the program does not fill\, we may look to reschedule to an alternative date. Please register to confirm your place as soon as possible. \nPre Work\nNone required \nGoals\nOverall this course is designed to improve perception\, influence and the nature of change.
URL:https://www.agec.org.au/event/leadership-futures-with-stephanie-burns-melbourne-2/
LOCATION:Sydney CBD\, Sydney\, NSW\, 2000\, Australia
ATTACH;FMTTYPE=image/jpeg:https://www.agec.org.au/wp-content/uploads/2019/06/course_main_29_course_main_28_course_main_28_meeting21.jpg
ORGANIZER;CN="Women%20in%20Banking%20and%20Finance%20%28WiBF%29":MAILTO:mail@wibf.org.au
END:VEVENT
BEGIN:VEVENT
DTSTART;TZID=Australia/Brisbane:20190911T170000
DTEND;TZID=Australia/Brisbane:20190911T190000
DTSTAMP:20260425T120834
CREATED:20190409T001508Z
LAST-MODIFIED:20190409T001508Z
UID:1516-1568221200-1568228400@www.agec.org.au
SUMMARY:Alliance of Girls' Schools | Twilight Networking Event | Brisbane
DESCRIPTION:The Alliance is pleased to invite you and your colleagues to this Twilight Networking Event\, kindly hosted by Stuartholme school. More information will follow. \n\n 
URL:https://www.agec.org.au/event/alliance-of-girls-schools-twilight-networking-event-brisbane/
LOCATION:Stuartholme School\, 365 Birdwood Terrace\, Brisbane\, QLD\, 4066\, Australia
ATTACH;FMTTYPE=image/png:https://www.agec.org.au/wp-content/uploads/2019/04/Untitled-design-2.png
ORGANIZER;CN="Alliance%20of%20Girls%E2%80%99%20Schools%20Australasia":MAILTO:loren.bridge@agsa.org.au
END:VEVENT
BEGIN:VEVENT
DTSTART;TZID=Australia/Brisbane:20190911T173000
DTEND;TZID=Australia/Brisbane:20190911T193000
DTSTAMP:20260425T120834
CREATED:20190411T033211Z
LAST-MODIFIED:20190411T033211Z
UID:1542-1568223000-1568230200@www.agec.org.au
SUMMARY:NAWIC NT | Piper Collective – Wine and Cheese evening
DESCRIPTION:Escape the humidity and Join us for a trip around Australia and enjoy 6 wines with shared cheese platters. \nAt Piper Collective our aim is to promote a greater appreciation of fine wine and liquor\, particularly the way in which food and alcohol can work together to provide an enhanced flavour experience.  Our experienced staff under the leadership of Directors\, Kelly and Mike\, who have together accumulated a depth of knowledge on the subject\, have all been trained to help guide our guests through their tasting adventure.
URL:https://www.agec.org.au/event/nawic-nt-piper-collective-wine-and-cheese-evening/
LOCATION:Piper Collective\, 28 Bishop St\, WOOLNER\, NT\, 0820\, Australia
ORGANIZER;CN="NAWIC":MAILTO:admin@nawic.com.au
END:VEVENT
END:VCALENDAR