BEGIN:VCALENDAR
VERSION:2.0
PRODID:-//Australian Gender Equality Council - ECPv6.0.13.1//NONSGML v1.0//EN
CALSCALE:GREGORIAN
METHOD:PUBLISH
X-ORIGINAL-URL:https://www.agec.org.au
X-WR-CALDESC:Events for Australian Gender Equality Council
REFRESH-INTERVAL;VALUE=DURATION:PT1H
X-Robots-Tag:noindex
X-PUBLISHED-TTL:PT1H
BEGIN:VTIMEZONE
TZID:Australia/Brisbane
BEGIN:STANDARD
TZOFFSETFROM:+1000
TZOFFSETTO:+1000
TZNAME:AEST
DTSTART:20190101T000000
END:STANDARD
END:VTIMEZONE
BEGIN:VEVENT
DTSTART;TZID=Australia/Brisbane:20190910T163000
DTEND;TZID=Australia/Brisbane:20190910T190000
DTSTAMP:20260425T120837
CREATED:20190409T001207Z
LAST-MODIFIED:20190409T001207Z
UID:1512-1568133000-1568142000@www.agec.org.au
SUMMARY:TeachMeet Networking Event | Adelaide
DESCRIPTION:We are pleased to invite you to connect with colleagues at our Alliance TeachMeet event in Adelaide\, kindly hosted by St Peter’s Girls’ School \nTeachMeets are informal\, collaborative experiences organised by educators\, for educators\, in order to share ideas and experiences of ongoing activities in their school. \nThe event will consist of a mixture of 7 minute ‘micro’ and 2 minute ‘nano’ presentations on a theme of your choice. We invite each school to present one micro and one nano presentation. \nSchools may choose ONE presentation option\, either a micro OR a nano. The presenter may be anyone from the school and additional staff from each school are invited to participate in the event. \nThis event is only open to member schools and a light afternoon tea will be provided. \nTickets will be available soon.
URL:https://www.agec.org.au/event/teachmeet-networking-event-adelaide/
LOCATION:St Peter’s Girls’ School\, Stonyfell Rd\, Stonyfell\, SA\, 5066\, Australia
ATTACH;FMTTYPE=image/jpeg:https://www.agec.org.au/wp-content/uploads/2019/04/women-at-conference-or-meeting.jpeg
ORGANIZER;CN="Alliance%20of%20Girls%E2%80%99%20Schools%20Australasia":MAILTO:loren.bridge@agsa.org.au
END:VEVENT
END:VCALENDAR