BEGIN:VCALENDAR
VERSION:2.0
PRODID:-//Australian Gender Equality Council - ECPv6.0.13.1//NONSGML v1.0//EN
CALSCALE:GREGORIAN
METHOD:PUBLISH
X-ORIGINAL-URL:https://www.agec.org.au
X-WR-CALDESC:Events for Australian Gender Equality Council
REFRESH-INTERVAL;VALUE=DURATION:PT1H
X-Robots-Tag:noindex
X-PUBLISHED-TTL:PT1H
BEGIN:VTIMEZONE
TZID:Australia/Brisbane
BEGIN:STANDARD
TZOFFSETFROM:+1000
TZOFFSETTO:+1000
TZNAME:AEST
DTSTART:20190101T000000
END:STANDARD
END:VTIMEZONE
BEGIN:VEVENT
DTSTART;TZID=Australia/Brisbane:20190902T173000
DTEND;TZID=Australia/Brisbane:20190902T193000
DTSTAMP:20260425T120825
CREATED:20190807T034419Z
LAST-MODIFIED:20190807T034729Z
UID:1682-1567445400-1567452600@www.agec.org.au
SUMMARY:Equal Pay Day
DESCRIPTION:economic Security4Women & the Equal Pay Alliance invite you to join us to acknowledge the 50th Anniversary of Australia’s historic ‘equal pay’ legislation and to continue the conversation to achieve gender pay equity on Monday 2nd September 2019. \nLIMITED SPACE: \nRSVP by 27th August 2019 to Nicole Williams admin@security4women.org.au\n(Subject Line: Melbourne advise name\, organisation\, dietary and access requirements)
URL:https://www.agec.org.au/event/equal-pay-day/
LOCATION:The Savoy Hotel\, 630 Little Collins St\, Melbourne\, VIC\, 3000\, Australia
ORGANIZER;CN="eS4W":MAILTO:coordinator@security4women.org.au
END:VEVENT
END:VCALENDAR