BEGIN:VCALENDAR
VERSION:2.0
PRODID:-//Australian Gender Equality Council - ECPv6.0.13.1//NONSGML v1.0//EN
CALSCALE:GREGORIAN
METHOD:PUBLISH
X-WR-CALNAME:Australian Gender Equality Council
X-ORIGINAL-URL:https://www.agec.org.au
X-WR-CALDESC:Events for Australian Gender Equality Council
REFRESH-INTERVAL;VALUE=DURATION:PT1H
X-Robots-Tag:noindex
X-PUBLISHED-TTL:PT1H
BEGIN:VTIMEZONE
TZID:Australia/Brisbane
BEGIN:STANDARD
TZOFFSETFROM:+1000
TZOFFSETTO:+1000
TZNAME:AEST
DTSTART:20190101T000000
END:STANDARD
END:VTIMEZONE
BEGIN:VEVENT
DTSTART;TZID=Australia/Brisbane:20190814T120000
DTEND;TZID=Australia/Brisbane:20190814T140000
DTSTAMP:20260425T134659
CREATED:20190327T075435Z
LAST-MODIFIED:20190327T075435Z
UID:1458-1565784000-1565791200@www.agec.org.au
SUMMARY:Women in Gaming Australasia Leadership Lunch
DESCRIPTION:
URL:https://www.agec.org.au/event/women-in-gaming-australasia-leadership-lunch/
LOCATION:ICC Sydney\, 14 Darling Dr\, Sydney\, NSW\, 2000\, Australia
ATTACH;FMTTYPE=image/png:https://www.agec.org.au/wp-content/uploads/2019/03/WGH-Banner-1.png
ORGANIZER;CN="Women%20in%20Gaming%20Australia":MAILTO:info@wga.org.au
END:VEVENT
END:VCALENDAR