BEGIN:VCALENDAR
VERSION:2.0
PRODID:-//Australian Gender Equality Council - ECPv6.0.13.1//NONSGML v1.0//EN
CALSCALE:GREGORIAN
METHOD:PUBLISH
X-WR-CALNAME:Australian Gender Equality Council
X-ORIGINAL-URL:https://www.agec.org.au
X-WR-CALDESC:Events for Australian Gender Equality Council
REFRESH-INTERVAL;VALUE=DURATION:PT1H
X-Robots-Tag:noindex
X-PUBLISHED-TTL:PT1H
BEGIN:VTIMEZONE
TZID:Australia/Adelaide
BEGIN:STANDARD
TZOFFSETFROM:+1030
TZOFFSETTO:+0930
TZNAME:ACST
DTSTART:20190406T163000
END:STANDARD
BEGIN:DAYLIGHT
TZOFFSETFROM:+0930
TZOFFSETTO:+1030
TZNAME:ACDT
DTSTART:20191005T163000
END:DAYLIGHT
END:VTIMEZONE
BEGIN:VEVENT
DTSTART;TZID=Australia/Adelaide:20190801T090000
DTEND;TZID=Australia/Adelaide:20190802T170000
DTSTAMP:20260425T134636
CREATED:20190327T073300Z
LAST-MODIFIED:20190327T073600Z
UID:1437-1564650000-1564765200@www.agec.org.au
SUMMARY:The Australian Women's Leadership Symposium Adelaide
DESCRIPTION:The Australian Women’s Leadership Forum is for women who are looking for increased awareness of their leadership style and competencies\, as well as practical strategies to help them overcome challenges within their work and personal life. The program also provides a relaxed and supportive environment to connect and collaborate with other female leaders. \n\nThe content and flow of the program is carefully designed to immerse participants in the subject matter and create valuable insights informed by collective experience. During the program\, a number of key themes are explored via a combination of expert presentations\, collaborative discussion\, experiential activities and personal reflection.
URL:https://www.agec.org.au/event/the-ausralian-womens-leadership-forum-townsville-2-2-2/
LOCATION:The Playford\, 120 North Terrace\, Adelaide\, SA\, 5000\, Australia
ATTACH;FMTTYPE=image/jpeg:https://www.agec.org.au/wp-content/uploads/2019/03/970977787.jpg
ORGANIZER;CN="Women%20%26amp%3B%20Leadership%20Australia":MAILTO:info@wla.edu.au
END:VEVENT
END:VCALENDAR