BEGIN:VCALENDAR
VERSION:2.0
PRODID:-//Australian Gender Equality Council - ECPv4.9.8//NONSGML v1.0//EN
CALSCALE:GREGORIAN
METHOD:PUBLISH
X-WR-CALNAME:Australian Gender Equality Council
X-ORIGINAL-URL:https://www.agec.org.au
X-WR-CALDESC:Events for Australian Gender Equality Council
BEGIN:VTIMEZONE
TZID:Australia/Brisbane
BEGIN:STANDARD
TZOFFSETFROM:+1000
TZOFFSETTO:+1000
TZNAME:AEST
DTSTART:20190101T000000
END:STANDARD
END:VTIMEZONE
BEGIN:VEVENT
DTSTART;TZID="Australia/Brisbane":20190917T173000
DTEND;TZID="Australia/Brisbane":20190917T190000
DTSTAMP:20200301T192125
CREATED:20190415T223631Z
LAST-MODIFIED:20190415T223631Z
UID:1600-1568741400-1568746800@www.agec.org.au
SUMMARY:WiT Connectworks Networking
DESCRIPTION:Come along to our quarterly networking and meet other like minded women working in technology industries. Networking events are a truly great way to make connections\, get new ideas and create new opportunities. \nWe pride ourselves on our inclusivity and community feel and our ability to provide a safe environment for you to maximise your potential. \n
URL:https://www.agec.org.au/event/wit-connectworks-networking-2/
LOCATION:Stock Exchange Hotel – Roof Top Bar\, 131 Edward Street\, Brisbane\, 131 Edward Street\, Brisbane\, Qld\, 4001\, Australia
ATTACH;FMTTYPE=image/jpeg:https://www.agec.org.au/wp-content/uploads/2019/04/Connectworks-1.jpg
ORGANIZER;CN="Women%20in%20Technology":MAILTO:admin@wit.org.au
END:VEVENT
END:VCALENDAR