BEGIN:VCALENDAR
VERSION:2.0
PRODID:-//Australian Gender Equality Council - ECPv4.9.8//NONSGML v1.0//EN
CALSCALE:GREGORIAN
METHOD:PUBLISH
X-WR-CALNAME:Australian Gender Equality Council
X-ORIGINAL-URL:https://www.agec.org.au
X-WR-CALDESC:Events for Australian Gender Equality Council
BEGIN:VTIMEZONE
TZID:Australia/Brisbane
BEGIN:STANDARD
TZOFFSETFROM:+1000
TZOFFSETTO:+1000
TZNAME:AEST
DTSTART:20190101T000000
END:STANDARD
END:VTIMEZONE
BEGIN:VEVENT
DTSTART;TZID="Australia/Brisbane":20190509T090000
DTEND;TZID="Australia/Brisbane":20190510T173000
DTSTAMP:20200301T191804
CREATED:20190324T123126Z
LAST-MODIFIED:20190324T123126Z
UID:1391-1557392400-1557509400@www.agec.org.au
SUMMARY:The Australian Women's Leadership Symposium Brisbane
DESCRIPTION:The Australian Women’s Leadership Symposiums are a national series of events focused on the experiences of women leaders in the contemporary workforce. \nHeld annually\, in every state and territory\, the Symposiums have been running for over ten years and have become the most highly attended women’s leadership events in the country. \n
URL:https://www.agec.org.au/event/the-australian-womens-leadership-symposium-brisbane/
LOCATION:Brisbane Conference and Exhibition Centre\, Merivale St & Glenelg Street\, South Brisbane\, QLD\, 4101\, Australia
ATTACH;FMTTYPE=image/jpeg:https://www.agec.org.au/wp-content/uploads/2019/03/970977797.jpg
ORGANIZER;CN="Women%20%26amp%3B%20Leadership%20Australia":MAILTO:info@wla.edu.au
END:VEVENT
END:VCALENDAR