BEGIN:VCALENDAR
VERSION:2.0
PRODID:-//Australian Gender Equality Council - ECPv4.9.8//NONSGML v1.0//EN
CALSCALE:GREGORIAN
METHOD:PUBLISH
X-WR-CALNAME:Australian Gender Equality Council
X-ORIGINAL-URL:https://www.agec.org.au
X-WR-CALDESC:Events for Australian Gender Equality Council
BEGIN:VTIMEZONE
TZID:Australia/Melbourne
BEGIN:STANDARD
TZOFFSETFROM:+1100
TZOFFSETTO:+1000
TZNAME:AEST
DTSTART:20190406T160000
END:STANDARD
BEGIN:DAYLIGHT
TZOFFSETFROM:+1000
TZOFFSETTO:+1100
TZNAME:AEDT
DTSTART:20191005T160000
END:DAYLIGHT
END:VTIMEZONE
BEGIN:VEVENT
DTSTART;TZID="Australia/Melbourne":20190605T170000
DTEND;TZID="Australia/Melbourne":20190605T190000
DTSTAMP:20200301T193317
CREATED:20190411T045536Z
LAST-MODIFIED:20190411T045536Z
UID:1561-1559754000-1559761200@www.agec.org.au
SUMMARY:NAWIC ACT | CEO Shadow Program
DESCRIPTION:APPLICATIONS NOW OPEN. \nBuilding on the success of our previous CEO Shadow Programs\, we are pleased to announce that the NAWIC ACT CEO Shadow Program has officially launched and applications are now open for both CEO’s and Shadows wishing to participate in 2019! \nApplications for the program are open to all NAWIC ACT female members and will close on 5 April 2019 so be quick to secure your spot. \nTo find out more and download application forms and flyer: \nAPPLICATION FORM\nFLYER \nThis program is proudly sponsored by Training Fund Authority \nThe program involves shadowing a number of current industry leaders and watching them in action over 2 – 3 full days. \nThere will be two program sessions held at Wisdom Learning offices. Session 1 (Participant Introduction) held on Wednesday 8 May 2019 and Session 2 (Program Graduation and Reflection) held on Wednesday 5 June 2019. \nFor any inquiries\, please get in touch with  Michelle Dimoski – michelle.dimoski@gmail.com and Lauren Cullen – Lauren.Cullen@igniteservices.com \n
URL:https://www.agec.org.au/event/nawic-act-ceo-shadow-program/2019-06-05/
LOCATION:Wisdom Learning Office\, 1/49 Laverton Avenue\, Canberra Airport\, ACT\, 2609\, Australia
ATTACH;FMTTYPE=image/png:https://www.agec.org.au/wp-content/uploads/2019/04/ACT190508.png
ORGANIZER;CN="NAWIC":MAILTO:admin@nawic.com.au
END:VEVENT
END:VCALENDAR