BEGIN:VCALENDAR
VERSION:2.0
PRODID:-//Australian Gender Equality Council - ECPv6.0.13.1//NONSGML v1.0//EN
CALSCALE:GREGORIAN
METHOD:PUBLISH
X-WR-CALNAME:Australian Gender Equality Council
X-ORIGINAL-URL:https://www.agec.org.au
X-WR-CALDESC:Events for Australian Gender Equality Council
REFRESH-INTERVAL;VALUE=DURATION:PT1H
X-Robots-Tag:noindex
X-PUBLISHED-TTL:PT1H
BEGIN:VTIMEZONE
TZID:Australia/Brisbane
BEGIN:STANDARD
TZOFFSETFROM:+1000
TZOFFSETTO:+1000
TZNAME:AEST
DTSTART:20190101T000000
END:STANDARD
END:VTIMEZONE
BEGIN:VEVENT
DTSTART;TZID=Australia/Brisbane:20190724T120000
DTEND;TZID=Australia/Brisbane:20190724T133000
DTSTAMP:20260425T024217
CREATED:20190607T005854Z
LAST-MODIFIED:20190607T010001Z
UID:1648-1563969600-1563975000@www.agec.org.au
SUMMARY:Leadership Series: Customer Experience Redefined with Rachel Slade
DESCRIPTION:Overview\nCustomer experience is evolving. Far from simply how well our customers are “served”\, CX now is now a key input to decision making across technology\, operations\, process flow\, customer service\, marketing and even finance and risk management. Join us in conversation with one of Australia’s most respected leaders as we explore emerging industry trends in CX and how NAB is responding to the community call to amplify the voice of the customer in the design and delivery of financial services. Please note that this event is theatre style with reserved seating for guests available on request. \nPre Work\nWe encourage all attendees to prepare for this event by thinking through the customer experience challenges and opportunities pertaining to their own organisation context\, and bringing focused questions to discuss with the speaker and other attendees. \nGoals\nThe goals of this particular Leadership Series Lunch are to educate on best practise and industry trends relating to customer experience; challenges and complexities in implementing CX strategies at the enterprise level; and CX opportunities that AI\, machine learning and big data can enable.
URL:https://www.agec.org.au/event/leadership-series-customer-experience-redefined-with-rachel-slade/
LOCATION:Clayton Utz\, 333 Collins Street\, Melbourne\, VIC\, 3000\, Australia
ATTACH;FMTTYPE=image/png:https://www.agec.org.au/wp-content/uploads/2019/06/event_main_1322_main-image-slade.png
ORGANIZER;CN="Women%20in%20Banking%20and%20Finance%20%28WiBF%29":MAILTO:mail@wibf.org.au
END:VEVENT
END:VCALENDAR