BEGIN:VCALENDAR
VERSION:2.0
PRODID:-//Australian Gender Equality Council - ECPv4.9.8//NONSGML v1.0//EN
CALSCALE:GREGORIAN
METHOD:PUBLISH
X-WR-CALNAME:Australian Gender Equality Council
X-ORIGINAL-URL:https://www.agec.org.au
X-WR-CALDESC:Events for Australian Gender Equality Council
BEGIN:VTIMEZONE
TZID:Australia/Brisbane
BEGIN:STANDARD
TZOFFSETFROM:+1000
TZOFFSETTO:+1000
TZNAME:AEST
DTSTART:20190101T000000
END:STANDARD
END:VTIMEZONE
BEGIN:VEVENT
DTSTART;TZID="Australia/Brisbane":20190606T173000
DTEND;TZID="Australia/Brisbane":20190606T193000
DTSTAMP:20200301T193727
CREATED:20190528T025948Z
LAST-MODIFIED:20190528T025948Z
UID:1629-1559842200-1559849400@www.agec.org.au
SUMMARY:Celebrating a National #TechDiversity Awards Program
DESCRIPTION:
URL:https://www.agec.org.au/event/celebrating-a-national-techdiversity-awards-program/
LOCATION:Avanade Australia\, 3 Sussex Street\, Barangaroo\, NSW\, 2000\, Australia
ATTACH;FMTTYPE=image/png:https://www.agec.org.au/wp-content/uploads/2019/05/EHI499834-020519013900.png
ORGANIZER;CN="%23TechDiversity%20Awards":MAILTO:TechDiversity18@Gmail.com
END:VEVENT
END:VCALENDAR