BEGIN:VCALENDAR
VERSION:2.0
PRODID:-//Australian Gender Equality Council - ECPv4.9.8//NONSGML v1.0//EN
CALSCALE:GREGORIAN
METHOD:PUBLISH
X-WR-CALNAME:Australian Gender Equality Council
X-ORIGINAL-URL:https://www.agec.org.au
X-WR-CALDESC:Events for Australian Gender Equality Council
BEGIN:VTIMEZONE
TZID:Australia/Brisbane
BEGIN:STANDARD
TZOFFSETFROM:+1000
TZOFFSETTO:+1000
TZNAME:AEST
DTSTART:20190101T000000
END:STANDARD
END:VTIMEZONE
BEGIN:VEVENT
DTSTART;TZID="Australia/Brisbane":20190515T133000
DTEND;TZID="Australia/Brisbane":20190515T143000
DTSTAMP:20200301T193221
CREATED:20190513T021908Z
LAST-MODIFIED:20190513T021908Z
UID:1621-1557927000-1557930600@www.agec.org.au
SUMMARY:Bringing it Home Webinar
DESCRIPTION:The how and why of using the Commission on the Status of Women (CSW 63) Agreed Conclusions to drive your organisation’s policy and advocacy \nThe Webinar is aimed at  \n\nproviding the ‘virtual’ space for those new to the UN / CSW processes and procedures of CSW \nlearn and interact with those who have attended and to discuss the Agreed Conclusions (AG) why they are relevant and important to Australian domestic policy\nexplore how the AG can contribute to your organisations work and the issues you identified in your work with eS4W last year\nmoving forward into Beijing +25\nhow eS4W member organisations can build and support advocacy work with the key issues identified by eS4W\n\nNote – to access Webinar all participants are required to RSVP with name and email by Monday 13th May 2019 12 noon to: admin@security4women.org.au \n
URL:https://www.agec.org.au/event/bringing-it-home-webinar/
ORGANIZER;CN="eS4W":MAILTO:coordinator@security4women.org.au
END:VEVENT
END:VCALENDAR