BEGIN:VCALENDAR
VERSION:2.0
PRODID:-//Australian Gender Equality Council - ECPv4.9.8//NONSGML v1.0//EN
CALSCALE:GREGORIAN
METHOD:PUBLISH
X-WR-CALNAME:Australian Gender Equality Council
X-ORIGINAL-URL:https://www.agec.org.au
X-WR-CALDESC:Events for Australian Gender Equality Council
BEGIN:VTIMEZONE
TZID:Australia/Brisbane
BEGIN:STANDARD
TZOFFSETFROM:+1000
TZOFFSETTO:+1000
TZNAME:AEST
DTSTART:20190101T000000
END:STANDARD
END:VTIMEZONE
BEGIN:VEVENT
DTSTART;TZID="Australia/Brisbane":20190617T000000
DTEND;TZID="Australia/Brisbane":20190617T000000
DTSTAMP:20200301T193711
CREATED:20190324T130511Z
LAST-MODIFIED:20190324T130511Z
UID:1416-1560729600-1560729600@www.agec.org.au
SUMMARY:Australian Local Government Women’s Association Networking Breakfast
DESCRIPTION:
URL:https://www.agec.org.au/event/australian-local-government-womens-association-networking-breakfast/
LOCATION:Murray Room\, Nat Convention Centre\, Canberra\, 31 Constitution Ave\, Canberra\, ACT\, 2601\, Australia
ORGANIZER;CN="Australian%20Local%20Government%20Women%27s%20Association":MAILTO:coral.ross@boroondara.vic.gov.au
END:VEVENT
END:VCALENDAR