BEGIN:VCALENDAR
VERSION:2.0
PRODID:-//Australian Gender Equality Council - ECPv4.9.8//NONSGML v1.0//EN
CALSCALE:GREGORIAN
METHOD:PUBLISH
X-WR-CALNAME:Australian Gender Equality Council
X-ORIGINAL-URL:https://www.agec.org.au
X-WR-CALDESC:Events for Australian Gender Equality Council
BEGIN:VTIMEZONE
TZID:Australia/Brisbane
BEGIN:STANDARD
TZOFFSETFROM:+1000
TZOFFSETTO:+1000
TZNAME:AEST
DTSTART:20190101T000000
END:STANDARD
END:VTIMEZONE
BEGIN:VEVENT
DTSTART;TZID="Australia/Brisbane":20190911T170000
DTEND;TZID="Australia/Brisbane":20190911T190000
DTSTAMP:20200301T192011
CREATED:20190409T001508Z
LAST-MODIFIED:20190409T001508Z
UID:1516-1568221200-1568228400@www.agec.org.au
SUMMARY:Alliance of Girls' Schools | Twilight Networking Event | Brisbane
DESCRIPTION:\nThe Alliance is pleased to invite you and your colleagues to this Twilight Networking Event\, kindly hosted by Stuartholme school. More information will follow. \n\n  \n
URL:https://www.agec.org.au/event/alliance-of-girls-schools-twilight-networking-event-brisbane/
LOCATION:Stuartholme School\, 365 Birdwood Terrace\, Brisbane\, QLD\, 4066\, Australia
ATTACH;FMTTYPE=image/png:https://www.agec.org.au/wp-content/uploads/2019/04/Untitled-design-2.png
ORGANIZER;CN="Alliance%20of%20Girls%E2%80%99%20Schools%20Australasia":MAILTO:loren.bridge@agsa.org.au
END:VEVENT
END:VCALENDAR