BEGIN:VCALENDAR
VERSION:2.0
PRODID:-//Australian Gender Equality Council - ECPv6.0.13.1//NONSGML v1.0//EN
CALSCALE:GREGORIAN
METHOD:PUBLISH
X-WR-CALNAME:Australian Gender Equality Council
X-ORIGINAL-URL:https://www.agec.org.au
X-WR-CALDESC:Events for Australian Gender Equality Council
REFRESH-INTERVAL;VALUE=DURATION:PT1H
X-Robots-Tag:noindex
X-PUBLISHED-TTL:PT1H
BEGIN:VTIMEZONE
TZID:Australia/Brisbane
BEGIN:STANDARD
TZOFFSETFROM:+1000
TZOFFSETTO:+1000
TZNAME:AEST
DTSTART:20190101T000000
END:STANDARD
END:VTIMEZONE
BEGIN:VEVENT
DTSTART;TZID=Australia/Brisbane:20190923T083000
DTEND;TZID=Australia/Brisbane:20190923T160000
DTSTAMP:20260425T024233
CREATED:20190409T000101Z
LAST-MODIFIED:20190409T000101Z
UID:1503-1569227400-1569254400@www.agec.org.au
SUMMARY:Alliance of Girls' Schools | Making a Difference: Student Leadership Summit Brisbane
DESCRIPTION:The Alliance is pleased to invite all Years 9-11 students in Australia and Years 10-12 students in New Zealand to our 2019 Making a Difference Summit. \nDesigned for students who are interested in stepping into student leadership roles\, the programme will give girls the skills and confidence needed to pursue their aspirations to lead their classmates and school community. \nFocusing on leadership and life skills that aren’t taught in schools\, the Summit will prepare girls to apply for and take on leadership roles with confidence and purpose. \nThrough in-depth workshops and powerful speakers\, the Making a Difference: Student Leadership Summit will give girls the opportunity to find their inner leader. \nWho should attend\nYears 9-11 students in Australia and Years 10-12 students in New Zealand who have an interest in furthering their leadership opportunities. \nSummit Sessions \n\nAuthentic Leadership: Determining your leadership values & strengths and understanding leadership styles.\nInfluencing Others: Understanding others and how to gain their support\nThe Power of Networking: Building connections with leaders and mentors\nSpeaking Up & Speaking Out: Getting your ideas and opinions heard\nThink Tank: Using your leadership skills to help you succeed
URL:https://www.agec.org.au/event/alliance-of-girls-schools-annual-networking-dinner-tasmania-2-2-2-2-2/
LOCATION:St Margaret’s Anglican Girls’ School\,\, 11 Petrie St\, Ascot\, QLD\, 4007\, Australia
ATTACH;FMTTYPE=image/jpeg:https://www.agec.org.au/wp-content/uploads/2019/04/MAD-2019-for-video-2-e1553734397767.jpg
ORGANIZER;CN="Alliance%20of%20Girls%E2%80%99%20Schools%20Australasia":MAILTO:loren.bridge@agsa.org.au
END:VEVENT
END:VCALENDAR